BEGIN:VCALENDAR
VERSION:2.0
PRODID:DPCALENDAR
CALSCALE:GREGORIAN
BEGIN:VTIMEZONE
TZID:Europe/Berlin
X-MICROSOFT-CDO-TZID:4
BEGIN:STANDARD
DTSTART:20251026T010000
TZOFFSETFROM:+0200
TZOFFSETTO:+0100
TZNAME:CET
END:STANDARD
BEGIN:STANDARD
DTSTART:20261025T010000
TZOFFSETFROM:+0200
TZOFFSETTO:+0100
TZNAME:CET
END:STANDARD
BEGIN:DAYLIGHT
DTSTART:20260329T010000
TZOFFSETFROM:+0100
TZOFFSETTO:+0200
TZNAME:CEST
END:DAYLIGHT
END:VTIMEZONE
X-WR-TIMEZONE:Europe/Berlin
BEGIN:VEVENT
DTSTART;TZID=Europe/Berlin:20201012T090000
DTEND;TZID=Europe/Berlin:20201025T100000
UID:6tecamudqpkgtiitfboklqbjkb
SUMMARY:Businesswochen für die Region BB
DTSTAMP:20260423T122626Z
DESCRIPTION:
X-ALT-DESC;FMTTYPE=text/html:
X-ACCESS:1
X-HITS:0
X-URL:https://www.google.com/calendar/event?eid=NnRlY2FtdWRxcGtndGlpdGZib2tscWJqa2IgNGpwcnRzYjZyczJkNWMxNjVlbDAwNzF2NG9AZw
X-COLOR:f83a22
END:VEVENT
END:VCALENDAR